BEGIN:VCALENDAR
VERSION:2.0
PRODID:-//St Anne&#039;s Primary School, Denton - ECPv6.15.20//NONSGML v1.0//EN
CALSCALE:GREGORIAN
METHOD:PUBLISH
X-WR-CALNAME:St Anne&#039;s Primary School, Denton
X-ORIGINAL-URL:https://st-annes-denton.tameside.sch.uk
X-WR-CALDESC:Events for St Anne&#039;s Primary School, Denton
REFRESH-INTERVAL;VALUE=DURATION:PT1H
X-Robots-Tag:noindex
X-PUBLISHED-TTL:PT1H
BEGIN:VTIMEZONE
TZID:Europe/London
BEGIN:DAYLIGHT
TZOFFSETFROM:+0000
TZOFFSETTO:+0100
TZNAME:BST
DTSTART:20230326T010000
END:DAYLIGHT
BEGIN:STANDARD
TZOFFSETFROM:+0100
TZOFFSETTO:+0000
TZNAME:GMT
DTSTART:20231029T010000
END:STANDARD
BEGIN:DAYLIGHT
TZOFFSETFROM:+0000
TZOFFSETTO:+0100
TZNAME:BST
DTSTART:20240331T010000
END:DAYLIGHT
BEGIN:STANDARD
TZOFFSETFROM:+0100
TZOFFSETTO:+0000
TZNAME:GMT
DTSTART:20241027T010000
END:STANDARD
BEGIN:DAYLIGHT
TZOFFSETFROM:+0000
TZOFFSETTO:+0100
TZNAME:BST
DTSTART:20250330T010000
END:DAYLIGHT
BEGIN:STANDARD
TZOFFSETFROM:+0100
TZOFFSETTO:+0000
TZNAME:GMT
DTSTART:20251026T010000
END:STANDARD
END:VTIMEZONE
BEGIN:VEVENT
DTSTART;VALUE=DATE:20240726
DTEND;VALUE=DATE:20240727
DTSTAMP:20260422T181725
CREATED:20230718T140437Z
LAST-MODIFIED:20230718T140437Z
UID:6962-1721952000-1722038399@st-annes-denton.tameside.sch.uk
SUMMARY:School closes
DESCRIPTION:2pm
URL:https://st-annes-denton.tameside.sch.uk/event/school-closes-28/
END:VEVENT
BEGIN:VEVENT
DTSTART;VALUE=DATE:20240726
DTEND;VALUE=DATE:20240727
DTSTAMP:20260422T181725
CREATED:20230918T131256Z
LAST-MODIFIED:20230918T131256Z
UID:7129-1721952000-1722038399@st-annes-denton.tameside.sch.uk
SUMMARY:Awards Assembly
DESCRIPTION:9.05am
URL:https://st-annes-denton.tameside.sch.uk/event/awards-assembly-13/
END:VEVENT
BEGIN:VEVENT
DTSTART;VALUE=DATE:20240726
DTEND;VALUE=DATE:20240727
DTSTAMP:20260422T181725
CREATED:20240628T105007Z
LAST-MODIFIED:20240628T105007Z
UID:7381-1721952000-1722038399@st-annes-denton.tameside.sch.uk
SUMMARY:Non-Uniform Day
DESCRIPTION:Donations for non-uniform to go to school fund
URL:https://st-annes-denton.tameside.sch.uk/event/non-uniform-day-29/
END:VEVENT
END:VCALENDAR