BEGIN:VCALENDAR
VERSION:2.0
PRODID:-//St Anne&#039;s Primary School, Denton - ECPv6.15.20//NONSGML v1.0//EN
CALSCALE:GREGORIAN
METHOD:PUBLISH
X-ORIGINAL-URL:https://st-annes-denton.tameside.sch.uk
X-WR-CALDESC:Events for St Anne&#039;s Primary School, Denton
REFRESH-INTERVAL;VALUE=DURATION:PT1H
X-Robots-Tag:noindex
X-PUBLISHED-TTL:PT1H
BEGIN:VTIMEZONE
TZID:Europe/London
BEGIN:DAYLIGHT
TZOFFSETFROM:+0000
TZOFFSETTO:+0100
TZNAME:BST
DTSTART:20230326T010000
END:DAYLIGHT
BEGIN:STANDARD
TZOFFSETFROM:+0100
TZOFFSETTO:+0000
TZNAME:GMT
DTSTART:20231029T010000
END:STANDARD
BEGIN:DAYLIGHT
TZOFFSETFROM:+0000
TZOFFSETTO:+0100
TZNAME:BST
DTSTART:20240331T010000
END:DAYLIGHT
BEGIN:STANDARD
TZOFFSETFROM:+0100
TZOFFSETTO:+0000
TZNAME:GMT
DTSTART:20241027T010000
END:STANDARD
BEGIN:DAYLIGHT
TZOFFSETFROM:+0000
TZOFFSETTO:+0100
TZNAME:BST
DTSTART:20250330T010000
END:DAYLIGHT
BEGIN:STANDARD
TZOFFSETFROM:+0100
TZOFFSETTO:+0000
TZNAME:GMT
DTSTART:20251026T010000
END:STANDARD
END:VTIMEZONE
BEGIN:VEVENT
DTSTART;VALUE=DATE:20240925
DTEND;VALUE=DATE:20240927
DTSTAMP:20260422T194423
CREATED:20240917T135322Z
LAST-MODIFIED:20240917T135322Z
UID:7581-1727222400-1727395199@st-annes-denton.tameside.sch.uk
SUMMARY:Year 5 Castleton trip
DESCRIPTION:
URL:https://st-annes-denton.tameside.sch.uk/event/year-5-castleton-trip/
END:VEVENT
BEGIN:VEVENT
DTSTART;VALUE=DATE:20240926
DTEND;VALUE=DATE:20240927
DTSTAMP:20260422T194423
CREATED:20240906T095919Z
LAST-MODIFIED:20240906T095919Z
UID:7514-1727308800-1727395199@st-annes-denton.tameside.sch.uk
SUMMARY:Open Session for Parents
DESCRIPTION:9am – 10.30am
URL:https://st-annes-denton.tameside.sch.uk/event/open-session-for-parents-2/
END:VEVENT
BEGIN:VEVENT
DTSTART;VALUE=DATE:20240926
DTEND;VALUE=DATE:20240927
DTSTAMP:20260422T194423
CREATED:20240917T135347Z
LAST-MODIFIED:20240917T135347Z
UID:7583-1727308800-1727395199@st-annes-denton.tameside.sch.uk
SUMMARY:Open morning for current parents
DESCRIPTION:9am – 10.30am
URL:https://st-annes-denton.tameside.sch.uk/event/open-morning-for-current-parents-4/
END:VEVENT
END:VCALENDAR