BEGIN:VCALENDAR
VERSION:2.0
PRODID:-//St Anne&#039;s Primary School, Denton - ECPv6.15.20//NONSGML v1.0//EN
CALSCALE:GREGORIAN
METHOD:PUBLISH
X-ORIGINAL-URL:https://st-annes-denton.tameside.sch.uk
X-WR-CALDESC:Events for St Anne&#039;s Primary School, Denton
REFRESH-INTERVAL;VALUE=DURATION:PT1H
X-Robots-Tag:noindex
X-PUBLISHED-TTL:PT1H
BEGIN:VTIMEZONE
TZID:Europe/London
BEGIN:DAYLIGHT
TZOFFSETFROM:+0000
TZOFFSETTO:+0100
TZNAME:BST
DTSTART:20250330T010000
END:DAYLIGHT
BEGIN:STANDARD
TZOFFSETFROM:+0100
TZOFFSETTO:+0000
TZNAME:GMT
DTSTART:20251026T010000
END:STANDARD
BEGIN:DAYLIGHT
TZOFFSETFROM:+0000
TZOFFSETTO:+0100
TZNAME:BST
DTSTART:20260329T010000
END:DAYLIGHT
BEGIN:STANDARD
TZOFFSETFROM:+0100
TZOFFSETTO:+0000
TZNAME:GMT
DTSTART:20261025T010000
END:STANDARD
BEGIN:DAYLIGHT
TZOFFSETFROM:+0000
TZOFFSETTO:+0100
TZNAME:BST
DTSTART:20270328T010000
END:DAYLIGHT
BEGIN:STANDARD
TZOFFSETFROM:+0100
TZOFFSETTO:+0000
TZNAME:GMT
DTSTART:20271031T010000
END:STANDARD
END:VTIMEZONE
BEGIN:VEVENT
DTSTART;VALUE=DATE:20260209
DTEND;VALUE=DATE:20260214
DTSTAMP:20260421T092505
CREATED:20250917T114805Z
LAST-MODIFIED:20250917T114805Z
UID:8047-1770595200-1771027199@st-annes-denton.tameside.sch.uk
SUMMARY:Children's Mental Health Week
DESCRIPTION:
URL:https://st-annes-denton.tameside.sch.uk/event/childrens-mental-health-week/
END:VEVENT
BEGIN:VEVENT
DTSTART;VALUE=DATE:20260213
DTEND;VALUE=DATE:20260214
DTSTAMP:20260421T092505
CREATED:20250722T100956Z
LAST-MODIFIED:20250722T100956Z
UID:7907-1770940800-1771027199@st-annes-denton.tameside.sch.uk
SUMMARY:School closes 3.15pm
DESCRIPTION:
URL:https://st-annes-denton.tameside.sch.uk/event/school-closes-3-15pm-7/
END:VEVENT
BEGIN:VEVENT
DTSTART;VALUE=DATE:20260213
DTEND;VALUE=DATE:20260214
DTSTAMP:20260421T092505
CREATED:20250918T120856Z
LAST-MODIFIED:20250918T120856Z
UID:8112-1770940800-1771027199@st-annes-denton.tameside.sch.uk
SUMMARY:Children's Mental Health Week - Sharing Assembly
DESCRIPTION:9.05am
URL:https://st-annes-denton.tameside.sch.uk/event/childrens-mental-health-week-sharing-assembly/
END:VEVENT
END:VCALENDAR