BEGIN:VCALENDAR
VERSION:2.0
PRODID:-//St Anne&#039;s Primary School, Denton - ECPv6.15.20//NONSGML v1.0//EN
CALSCALE:GREGORIAN
METHOD:PUBLISH
X-WR-CALNAME:St Anne&#039;s Primary School, Denton
X-ORIGINAL-URL:https://st-annes-denton.tameside.sch.uk
X-WR-CALDESC:Events for St Anne&#039;s Primary School, Denton
REFRESH-INTERVAL;VALUE=DURATION:PT1H
X-Robots-Tag:noindex
X-PUBLISHED-TTL:PT1H
BEGIN:VTIMEZONE
TZID:Europe/London
BEGIN:DAYLIGHT
TZOFFSETFROM:+0000
TZOFFSETTO:+0100
TZNAME:BST
DTSTART:20190331T010000
END:DAYLIGHT
BEGIN:STANDARD
TZOFFSETFROM:+0100
TZOFFSETTO:+0000
TZNAME:GMT
DTSTART:20191027T010000
END:STANDARD
BEGIN:DAYLIGHT
TZOFFSETFROM:+0000
TZOFFSETTO:+0100
TZNAME:BST
DTSTART:20200329T010000
END:DAYLIGHT
BEGIN:STANDARD
TZOFFSETFROM:+0100
TZOFFSETTO:+0000
TZNAME:GMT
DTSTART:20201025T010000
END:STANDARD
BEGIN:DAYLIGHT
TZOFFSETFROM:+0000
TZOFFSETTO:+0100
TZNAME:BST
DTSTART:20210328T010000
END:DAYLIGHT
BEGIN:STANDARD
TZOFFSETFROM:+0100
TZOFFSETTO:+0000
TZNAME:GMT
DTSTART:20211031T010000
END:STANDARD
END:VTIMEZONE
BEGIN:VEVENT
DTSTART;VALUE=DATE:20201001
DTEND;VALUE=DATE:20201002
DTSTAMP:20260421T104207
CREATED:20200915T121051Z
LAST-MODIFIED:20200915T121051Z
UID:5219-1601510400-1601596799@st-annes-denton.tameside.sch.uk
SUMMARY:Virtual classroom presentations for current parents available
DESCRIPTION:
URL:https://st-annes-denton.tameside.sch.uk/event/virtual-classroom-presentations-for-current-parents-available/
END:VEVENT
BEGIN:VEVENT
DTSTART;VALUE=DATE:20201005
DTEND;VALUE=DATE:20201010
DTSTAMP:20260421T104207
CREATED:20200915T121129Z
LAST-MODIFIED:20200915T121129Z
UID:5221-1601856000-1602287999@st-annes-denton.tameside.sch.uk
SUMMARY:Wellbeing Week
DESCRIPTION:
URL:https://st-annes-denton.tameside.sch.uk/event/wellbeing-week/
END:VEVENT
BEGIN:VEVENT
DTSTART;VALUE=DATE:20201006
DTEND;VALUE=DATE:20201007
DTSTAMP:20260421T104207
CREATED:20200915T121212Z
LAST-MODIFIED:20200915T121212Z
UID:5223-1601942400-1602028799@st-annes-denton.tameside.sch.uk
SUMMARY:Individual and Family Photographs
DESCRIPTION:From 9.00am
URL:https://st-annes-denton.tameside.sch.uk/event/individual-and-family-photographs/
END:VEVENT
BEGIN:VEVENT
DTSTART;VALUE=DATE:20201008
DTEND;VALUE=DATE:20201009
DTSTAMP:20260421T104208
CREATED:20200915T121451Z
LAST-MODIFIED:20200915T121451Z
UID:5225-1602115200-1602201599@st-annes-denton.tameside.sch.uk
SUMMARY:Virtual open session for prospective parents
DESCRIPTION:
URL:https://st-annes-denton.tameside.sch.uk/event/virtual-open-session-for-prospective-parents/
END:VEVENT
BEGIN:VEVENT
DTSTART;VALUE=DATE:20201009
DTEND;VALUE=DATE:20201010
DTSTAMP:20260421T104208
CREATED:20201005T105913Z
LAST-MODIFIED:20201005T105913Z
UID:5366-1602201600-1602287999@st-annes-denton.tameside.sch.uk
SUMMARY:Non-Uniform Day
DESCRIPTION:Wear something yellow for YoungMindsUK
URL:https://st-annes-denton.tameside.sch.uk/event/non-uniform-day-4/
END:VEVENT
BEGIN:VEVENT
DTSTART;VALUE=DATE:20201023
DTEND;VALUE=DATE:20201024
DTSTAMP:20260421T104208
CREATED:20200225T104501Z
LAST-MODIFIED:20200225T104501Z
UID:4911-1603411200-1603497599@st-annes-denton.tameside.sch.uk
SUMMARY:School closes
DESCRIPTION:3.15pm
URL:https://st-annes-denton.tameside.sch.uk/event/school-closes-5/
END:VEVENT
END:VCALENDAR