BEGIN:VCALENDAR
VERSION:2.0
PRODID:-//St Anne&#039;s Primary School, Denton - ECPv6.15.20//NONSGML v1.0//EN
CALSCALE:GREGORIAN
METHOD:PUBLISH
X-ORIGINAL-URL:https://st-annes-denton.tameside.sch.uk
X-WR-CALDESC:Events for St Anne&#039;s Primary School, Denton
REFRESH-INTERVAL;VALUE=DURATION:PT1H
X-Robots-Tag:noindex
X-PUBLISHED-TTL:PT1H
BEGIN:VTIMEZONE
TZID:Europe/London
BEGIN:DAYLIGHT
TZOFFSETFROM:+0000
TZOFFSETTO:+0100
TZNAME:BST
DTSTART:20210328T010000
END:DAYLIGHT
BEGIN:STANDARD
TZOFFSETFROM:+0100
TZOFFSETTO:+0000
TZNAME:GMT
DTSTART:20211031T010000
END:STANDARD
BEGIN:DAYLIGHT
TZOFFSETFROM:+0000
TZOFFSETTO:+0100
TZNAME:BST
DTSTART:20220327T010000
END:DAYLIGHT
BEGIN:STANDARD
TZOFFSETFROM:+0100
TZOFFSETTO:+0000
TZNAME:GMT
DTSTART:20221030T010000
END:STANDARD
BEGIN:DAYLIGHT
TZOFFSETFROM:+0000
TZOFFSETTO:+0100
TZNAME:BST
DTSTART:20230326T010000
END:DAYLIGHT
BEGIN:STANDARD
TZOFFSETFROM:+0100
TZOFFSETTO:+0000
TZNAME:GMT
DTSTART:20231029T010000
END:STANDARD
END:VTIMEZONE
BEGIN:VEVENT
DTSTART;VALUE=DATE:20220613
DTEND;VALUE=DATE:20220614
DTSTAMP:20260422T055743
CREATED:20210914T130256Z
LAST-MODIFIED:20210914T130256Z
UID:5918-1655078400-1655164799@st-annes-denton.tameside.sch.uk
SUMMARY:School Closed
DESCRIPTION:Queen’s Platinum Jubilee
URL:https://st-annes-denton.tameside.sch.uk/event/school-closed/
END:VEVENT
BEGIN:VEVENT
DTSTART;VALUE=DATE:20220614
DTEND;VALUE=DATE:20220615
DTSTAMP:20260422T055743
CREATED:20210719T095330Z
LAST-MODIFIED:20220516T130636Z
UID:5739-1655164800-1655251199@st-annes-denton.tameside.sch.uk
SUMMARY:School re-opens
DESCRIPTION:9.00am
URL:https://st-annes-denton.tameside.sch.uk/event/school-re-opens-13/
END:VEVENT
BEGIN:VEVENT
DTSTART;VALUE=DATE:20220615
DTEND;VALUE=DATE:20220616
DTSTAMP:20260422T055743
CREATED:20220516T130801Z
LAST-MODIFIED:20220516T130801Z
UID:6251-1655251200-1655337599@st-annes-denton.tameside.sch.uk
SUMMARY:Class photographs
DESCRIPTION:
URL:https://st-annes-denton.tameside.sch.uk/event/class-photographs-3/
END:VEVENT
BEGIN:VEVENT
DTSTART;VALUE=DATE:20220617
DTEND;VALUE=DATE:20220618
DTSTAMP:20260422T055743
CREATED:20220303T140245Z
LAST-MODIFIED:20220303T140245Z
UID:6167-1655424000-1655510399@st-annes-denton.tameside.sch.uk
SUMMARY:Song/Poem from every class
DESCRIPTION:9.05am
URL:https://st-annes-denton.tameside.sch.uk/event/song-poem-from-every-class-2/
END:VEVENT
BEGIN:VEVENT
DTSTART;VALUE=DATE:20220620
DTEND;VALUE=DATE:20220625
DTSTAMP:20260422T055743
CREATED:20210723T120245Z
LAST-MODIFIED:20210723T120245Z
UID:5832-1655683200-1656115199@st-annes-denton.tameside.sch.uk
SUMMARY:Sport Week
DESCRIPTION:
URL:https://st-annes-denton.tameside.sch.uk/event/sport-week/
END:VEVENT
BEGIN:VEVENT
DTSTART;VALUE=DATE:20220622
DTEND;VALUE=DATE:20220623
DTSTAMP:20260422T055743
CREATED:20210723T120410Z
LAST-MODIFIED:20210723T120410Z
UID:5834-1655856000-1655942399@st-annes-denton.tameside.sch.uk
SUMMARY:Infant Sports (pm)
DESCRIPTION:Or 29 June or 6 July (first fine day)
URL:https://st-annes-denton.tameside.sch.uk/event/infant-sports-pm/
END:VEVENT
BEGIN:VEVENT
DTSTART;VALUE=DATE:20220623
DTEND;VALUE=DATE:20220624
DTSTAMP:20260422T055743
CREATED:20210723T120534Z
LAST-MODIFIED:20210723T120534Z
UID:5836-1655942400-1656028799@st-annes-denton.tameside.sch.uk
SUMMARY:Junior Sports (pm)
DESCRIPTION:Or 30 June or 7 July (first fine day)
URL:https://st-annes-denton.tameside.sch.uk/event/junior-sports-pm-2/
END:VEVENT
BEGIN:VEVENT
DTSTART;VALUE=DATE:20220624
DTEND;VALUE=DATE:20220625
DTSTAMP:20260422T055743
CREATED:20220303T140322Z
LAST-MODIFIED:20220303T140322Z
UID:6169-1656028800-1656115199@st-annes-denton.tameside.sch.uk
SUMMARY:Year 2 Sharing Assembly
DESCRIPTION:9.05am
URL:https://st-annes-denton.tameside.sch.uk/event/year-2-sharing-assembly-2/
END:VEVENT
BEGIN:VEVENT
DTSTART;VALUE=DATE:20220628
DTEND;VALUE=DATE:20220629
DTSTAMP:20260422T055743
CREATED:20210723T115936Z
LAST-MODIFIED:20210723T115936Z
UID:5830-1656374400-1656460799@st-annes-denton.tameside.sch.uk
SUMMARY:New Intake Meeting
DESCRIPTION:1.45pm
URL:https://st-annes-denton.tameside.sch.uk/event/new-intake-meeting-3/
END:VEVENT
END:VCALENDAR