BEGIN:VCALENDAR
VERSION:2.0
PRODID:-//St Anne&#039;s Primary School, Denton - ECPv6.15.20//NONSGML v1.0//EN
CALSCALE:GREGORIAN
METHOD:PUBLISH
X-ORIGINAL-URL:https://st-annes-denton.tameside.sch.uk
X-WR-CALDESC:Events for St Anne&#039;s Primary School, Denton
REFRESH-INTERVAL;VALUE=DURATION:PT1H
X-Robots-Tag:noindex
X-PUBLISHED-TTL:PT1H
BEGIN:VTIMEZONE
TZID:Europe/London
BEGIN:DAYLIGHT
TZOFFSETFROM:+0000
TZOFFSETTO:+0100
TZNAME:BST
DTSTART:20230326T010000
END:DAYLIGHT
BEGIN:STANDARD
TZOFFSETFROM:+0100
TZOFFSETTO:+0000
TZNAME:GMT
DTSTART:20231029T010000
END:STANDARD
BEGIN:DAYLIGHT
TZOFFSETFROM:+0000
TZOFFSETTO:+0100
TZNAME:BST
DTSTART:20240331T010000
END:DAYLIGHT
BEGIN:STANDARD
TZOFFSETFROM:+0100
TZOFFSETTO:+0000
TZNAME:GMT
DTSTART:20241027T010000
END:STANDARD
BEGIN:DAYLIGHT
TZOFFSETFROM:+0000
TZOFFSETTO:+0100
TZNAME:BST
DTSTART:20250330T010000
END:DAYLIGHT
BEGIN:STANDARD
TZOFFSETFROM:+0100
TZOFFSETTO:+0000
TZNAME:GMT
DTSTART:20251026T010000
END:STANDARD
END:VTIMEZONE
BEGIN:VEVENT
DTSTART;VALUE=DATE:20240415
DTEND;VALUE=DATE:20240416
DTSTAMP:20260422T113459
CREATED:20230718T135847Z
LAST-MODIFIED:20230718T135847Z
UID:6952-1713139200-1713225599@st-annes-denton.tameside.sch.uk
SUMMARY:School re-opens
DESCRIPTION:9.00am
URL:https://st-annes-denton.tameside.sch.uk/event/school-re-opens-24/
END:VEVENT
BEGIN:VEVENT
DTSTART;VALUE=DATE:20240419
DTEND;VALUE=DATE:20240420
DTSTAMP:20260422T113459
CREATED:20240322T110255Z
LAST-MODIFIED:20240322T110255Z
UID:7294-1713484800-1713571199@st-annes-denton.tameside.sch.uk
SUMMARY:Eco Warriors Sharing Assembly
DESCRIPTION:9.05am
URL:https://st-annes-denton.tameside.sch.uk/event/eco-warriors-sharing-assembly-2/
END:VEVENT
BEGIN:VEVENT
DTSTART;VALUE=DATE:20240422
DTEND;VALUE=DATE:20240423
DTSTAMP:20260422T113459
CREATED:20230918T125520Z
LAST-MODIFIED:20230918T125520Z
UID:7089-1713744000-1713830399@st-annes-denton.tameside.sch.uk
SUMMARY:KS2 SATs Meeting for Year 6 parents
DESCRIPTION:3.30pm
URL:https://st-annes-denton.tameside.sch.uk/event/ks2-sats-meeting-for-year-6-parents-4/
END:VEVENT
BEGIN:VEVENT
DTSTART;VALUE=DATE:20240423
DTEND;VALUE=DATE:20240424
DTSTAMP:20260422T113459
CREATED:20230918T125554Z
LAST-MODIFIED:20230918T125554Z
UID:7091-1713830400-1713916799@st-annes-denton.tameside.sch.uk
SUMMARY:KS1 SATs Meeting for Year 2 parents
DESCRIPTION:3.30pm
URL:https://st-annes-denton.tameside.sch.uk/event/ks1-sats-meeting-for-year-2-parents-4/
END:VEVENT
BEGIN:VEVENT
DTSTART;VALUE=DATE:20240426
DTEND;VALUE=DATE:20240427
DTSTAMP:20260422T113459
CREATED:20240322T110324Z
LAST-MODIFIED:20240322T110324Z
UID:7296-1714089600-1714175999@st-annes-denton.tameside.sch.uk
SUMMARY:School Council Sharing Assembly
DESCRIPTION:9.05am
URL:https://st-annes-denton.tameside.sch.uk/event/school-council-sharing-assembly-3/
END:VEVENT
END:VCALENDAR