BEGIN:VCALENDAR
VERSION:2.0
PRODID:-//St Anne&#039;s Primary School, Denton - ECPv6.15.20//NONSGML v1.0//EN
CALSCALE:GREGORIAN
METHOD:PUBLISH
X-WR-CALNAME:St Anne&#039;s Primary School, Denton
X-ORIGINAL-URL:https://st-annes-denton.tameside.sch.uk
X-WR-CALDESC:Events for St Anne&#039;s Primary School, Denton
REFRESH-INTERVAL;VALUE=DURATION:PT1H
X-Robots-Tag:noindex
X-PUBLISHED-TTL:PT1H
BEGIN:VTIMEZONE
TZID:Europe/London
BEGIN:DAYLIGHT
TZOFFSETFROM:+0000
TZOFFSETTO:+0100
TZNAME:BST
DTSTART:20230326T010000
END:DAYLIGHT
BEGIN:STANDARD
TZOFFSETFROM:+0100
TZOFFSETTO:+0000
TZNAME:GMT
DTSTART:20231029T010000
END:STANDARD
BEGIN:DAYLIGHT
TZOFFSETFROM:+0000
TZOFFSETTO:+0100
TZNAME:BST
DTSTART:20240331T010000
END:DAYLIGHT
BEGIN:STANDARD
TZOFFSETFROM:+0100
TZOFFSETTO:+0000
TZNAME:GMT
DTSTART:20241027T010000
END:STANDARD
BEGIN:DAYLIGHT
TZOFFSETFROM:+0000
TZOFFSETTO:+0100
TZNAME:BST
DTSTART:20250330T010000
END:DAYLIGHT
BEGIN:STANDARD
TZOFFSETFROM:+0100
TZOFFSETTO:+0000
TZNAME:GMT
DTSTART:20251026T010000
END:STANDARD
END:VTIMEZONE
BEGIN:VEVENT
DTSTART;VALUE=DATE:20241003
DTEND;VALUE=DATE:20241004
DTSTAMP:20260422T194425
CREATED:20240917T135628Z
LAST-MODIFIED:20240917T135628Z
UID:7587-1727913600-1727999999@st-annes-denton.tameside.sch.uk
SUMMARY:Open session for prospective parents
DESCRIPTION:10.45am – 12pm
URL:https://st-annes-denton.tameside.sch.uk/event/open-session-for-prospective-parents-3/
END:VEVENT
BEGIN:VEVENT
DTSTART;VALUE=DATE:20241004
DTEND;VALUE=DATE:20241005
DTSTAMP:20260422T194425
CREATED:20240917T135655Z
LAST-MODIFIED:20240917T135655Z
UID:7589-1728000000-1728086399@st-annes-denton.tameside.sch.uk
SUMMARY:Harvest service
DESCRIPTION:in Church 9.10am
URL:https://st-annes-denton.tameside.sch.uk/event/harvest-service/
END:VEVENT
BEGIN:VEVENT
DTSTART;VALUE=DATE:20241008
DTEND;VALUE=DATE:20241009
DTSTAMP:20260422T194425
CREATED:20240917T135722Z
LAST-MODIFIED:20240917T135722Z
UID:7591-1728345600-1728431999@st-annes-denton.tameside.sch.uk
SUMMARY:Flu immunisations
DESCRIPTION:Rec – Year 6
URL:https://st-annes-denton.tameside.sch.uk/event/flu-immunisations-2/
END:VEVENT
BEGIN:VEVENT
DTSTART;VALUE=DATE:20241010
DTEND;VALUE=DATE:20241011
DTSTAMP:20260422T194425
CREATED:20240917T135755Z
LAST-MODIFIED:20240917T135755Z
UID:7593-1728518400-1728604799@st-annes-denton.tameside.sch.uk
SUMMARY:World Mental Health Day - Hello Yellow!
DESCRIPTION:
URL:https://st-annes-denton.tameside.sch.uk/event/world-mental-health-day-hello-yellow/
END:VEVENT
BEGIN:VEVENT
DTSTART;VALUE=DATE:20241011
DTEND;VALUE=DATE:20241012
DTSTAMP:20260422T194425
CREATED:20240906T092634Z
LAST-MODIFIED:20240906T092634Z
UID:7486-1728604800-1728691199@st-annes-denton.tameside.sch.uk
SUMMARY:Year 5 Sharing Assembly
DESCRIPTION:9.05am
URL:https://st-annes-denton.tameside.sch.uk/event/year-5-sharing-assembly-9/
END:VEVENT
BEGIN:VEVENT
DTSTART;VALUE=DATE:20241014
DTEND;VALUE=DATE:20241018
DTSTAMP:20260422T194425
CREATED:20240917T135822Z
LAST-MODIFIED:20240917T135822Z
UID:7595-1728864000-1729209599@st-annes-denton.tameside.sch.uk
SUMMARY:Book Fair
DESCRIPTION:After School in the Hall
URL:https://st-annes-denton.tameside.sch.uk/event/book-fair-4/
END:VEVENT
BEGIN:VEVENT
DTSTART;VALUE=DATE:20241015
DTEND;VALUE=DATE:20241016
DTSTAMP:20260422T194425
CREATED:20240917T140101Z
LAST-MODIFIED:20240917T140101Z
UID:7597-1728950400-1729036799@st-annes-denton.tameside.sch.uk
SUMMARY:Parents' Evening
DESCRIPTION:4pm – 7pm
URL:https://st-annes-denton.tameside.sch.uk/event/parents-evening-9/
END:VEVENT
BEGIN:VEVENT
DTSTART;VALUE=DATE:20241018
DTEND;VALUE=DATE:20241019
DTSTAMP:20260422T194425
CREATED:20240906T092659Z
LAST-MODIFIED:20240906T092659Z
UID:7488-1729209600-1729295999@st-annes-denton.tameside.sch.uk
SUMMARY:Year 4 Sharing Assembly
DESCRIPTION:9.05am
URL:https://st-annes-denton.tameside.sch.uk/event/year-4-sharing-assembly-8/
END:VEVENT
BEGIN:VEVENT
DTSTART;VALUE=DATE:20241022
DTEND;VALUE=DATE:20241023
DTSTAMP:20260422T194425
CREATED:20240917T140136Z
LAST-MODIFIED:20240917T140136Z
UID:7599-1729555200-1729641599@st-annes-denton.tameside.sch.uk
SUMMARY:Individual Photos
DESCRIPTION:
URL:https://st-annes-denton.tameside.sch.uk/event/individual-photos-2/
END:VEVENT
BEGIN:VEVENT
DTSTART;VALUE=DATE:20241024
DTEND;VALUE=DATE:20241025
DTSTAMP:20260422T194425
CREATED:20240917T140205Z
LAST-MODIFIED:20240917T140205Z
UID:7601-1729728000-1729814399@st-annes-denton.tameside.sch.uk
SUMMARY:Parents' Evening
DESCRIPTION:3.30pm – 6pm
URL:https://st-annes-denton.tameside.sch.uk/event/parents-evening-10/
END:VEVENT
BEGIN:VEVENT
DTSTART;VALUE=DATE:20241025
DTEND;VALUE=DATE:20241026
DTSTAMP:20260422T194425
CREATED:20240628T115300Z
LAST-MODIFIED:20240628T115300Z
UID:7391-1729814400-1729900799@st-annes-denton.tameside.sch.uk
SUMMARY:School closes 3.15pm
DESCRIPTION:
URL:https://st-annes-denton.tameside.sch.uk/event/school-closes-3-15pm/
END:VEVENT
BEGIN:VEVENT
DTSTART;VALUE=DATE:20241025
DTEND;VALUE=DATE:20241026
DTSTAMP:20260422T194425
CREATED:20240906T094016Z
LAST-MODIFIED:20240906T094016Z
UID:7496-1729814400-1729900799@st-annes-denton.tameside.sch.uk
SUMMARY:Year 2 Sharing Assembly
DESCRIPTION:9.05am
URL:https://st-annes-denton.tameside.sch.uk/event/year-2-sharing-assembly-9/
END:VEVENT
END:VCALENDAR