BEGIN:VCALENDAR
VERSION:2.0
PRODID:-//St Anne&#039;s Primary School, Denton - ECPv6.15.20//NONSGML v1.0//EN
CALSCALE:GREGORIAN
METHOD:PUBLISH
X-WR-CALNAME:St Anne&#039;s Primary School, Denton
X-ORIGINAL-URL:https://st-annes-denton.tameside.sch.uk
X-WR-CALDESC:Events for St Anne&#039;s Primary School, Denton
REFRESH-INTERVAL;VALUE=DURATION:PT1H
X-Robots-Tag:noindex
X-PUBLISHED-TTL:PT1H
BEGIN:VTIMEZONE
TZID:Europe/London
BEGIN:DAYLIGHT
TZOFFSETFROM:+0000
TZOFFSETTO:+0100
TZNAME:BST
DTSTART:20250330T010000
END:DAYLIGHT
BEGIN:STANDARD
TZOFFSETFROM:+0100
TZOFFSETTO:+0000
TZNAME:GMT
DTSTART:20251026T010000
END:STANDARD
BEGIN:DAYLIGHT
TZOFFSETFROM:+0000
TZOFFSETTO:+0100
TZNAME:BST
DTSTART:20260329T010000
END:DAYLIGHT
BEGIN:STANDARD
TZOFFSETFROM:+0100
TZOFFSETTO:+0000
TZNAME:GMT
DTSTART:20261025T010000
END:STANDARD
BEGIN:DAYLIGHT
TZOFFSETFROM:+0000
TZOFFSETTO:+0100
TZNAME:BST
DTSTART:20270328T010000
END:DAYLIGHT
BEGIN:STANDARD
TZOFFSETFROM:+0100
TZOFFSETTO:+0000
TZNAME:GMT
DTSTART:20271031T010000
END:STANDARD
END:VTIMEZONE
BEGIN:VEVENT
DTSTART;VALUE=DATE:20260608
DTEND;VALUE=DATE:20260609
DTSTAMP:20260421T120156
CREATED:20250722T101323Z
LAST-MODIFIED:20250722T101323Z
UID:7921-1780876800-1780963199@st-annes-denton.tameside.sch.uk
SUMMARY:School re-opens 9am
DESCRIPTION:
URL:https://st-annes-denton.tameside.sch.uk/event/school-re-opens-9am-5/
END:VEVENT
BEGIN:VEVENT
DTSTART;VALUE=DATE:20260610
DTEND;VALUE=DATE:20260611
DTSTAMP:20260421T120156
CREATED:20250917T122552Z
LAST-MODIFIED:20250917T122552Z
UID:8071-1781049600-1781135999@st-annes-denton.tameside.sch.uk
SUMMARY:Class photos
DESCRIPTION:
URL:https://st-annes-denton.tameside.sch.uk/event/class-photos-3/
END:VEVENT
BEGIN:VEVENT
DTSTART;VALUE=DATE:20260612
DTEND;VALUE=DATE:20260613
DTSTAMP:20260421T120156
CREATED:20250918T121243Z
LAST-MODIFIED:20250918T121243Z
UID:8132-1781222400-1781308799@st-annes-denton.tameside.sch.uk
SUMMARY:Year 3 Sharing Assembly
DESCRIPTION:
URL:https://st-annes-denton.tameside.sch.uk/event/year-3-sharing-assembly-13/
END:VEVENT
BEGIN:VEVENT
DTSTART;VALUE=DATE:20260615
DTEND;VALUE=DATE:20260620
DTSTAMP:20260421T120156
CREATED:20250917T122613Z
LAST-MODIFIED:20250917T122613Z
UID:8073-1781481600-1781913599@st-annes-denton.tameside.sch.uk
SUMMARY:Sports Week
DESCRIPTION:
URL:https://st-annes-denton.tameside.sch.uk/event/sports-week-5/
END:VEVENT
BEGIN:VEVENT
DTSTART;VALUE=DATE:20260617
DTEND;VALUE=DATE:20260618
DTSTAMP:20260421T120156
CREATED:20250917T122718Z
LAST-MODIFIED:20250917T122718Z
UID:8075-1781654400-1781740799@st-annes-denton.tameside.sch.uk
SUMMARY:Infant Sports Day
DESCRIPTION:or 24th June or 1st July – weather dependent
URL:https://st-annes-denton.tameside.sch.uk/event/infant-sports-day/
END:VEVENT
BEGIN:VEVENT
DTSTART;VALUE=DATE:20260618
DTEND;VALUE=DATE:20260619
DTSTAMP:20260421T120156
CREATED:20250917T122856Z
LAST-MODIFIED:20250917T122856Z
UID:8079-1781740800-1781827199@st-annes-denton.tameside.sch.uk
SUMMARY:Junior Sports Day
DESCRIPTION:Or 25th June or 2nd July – weather dependent
URL:https://st-annes-denton.tameside.sch.uk/event/junior-sports-day-2/
END:VEVENT
BEGIN:VEVENT
DTSTART;VALUE=DATE:20260619
DTEND;VALUE=DATE:20260620
DTSTAMP:20260421T120156
CREATED:20250918T121304Z
LAST-MODIFIED:20250918T121304Z
UID:8134-1781827200-1781913599@st-annes-denton.tameside.sch.uk
SUMMARY:Year 2 Sharing Assembly
DESCRIPTION:
URL:https://st-annes-denton.tameside.sch.uk/event/year-2-sharing-assembly-13/
END:VEVENT
BEGIN:VEVENT
DTSTART;VALUE=DATE:20260625
DTEND;VALUE=DATE:20260626
DTSTAMP:20260421T120156
CREATED:20250917T122818Z
LAST-MODIFIED:20250917T122818Z
UID:8077-1782345600-1782431999@st-annes-denton.tameside.sch.uk
SUMMARY:New Intake Meeting
DESCRIPTION:1.45pm
URL:https://st-annes-denton.tameside.sch.uk/event/new-intake-meeting-7/
END:VEVENT
BEGIN:VEVENT
DTSTART;VALUE=DATE:20260626
DTEND;VALUE=DATE:20260627
DTSTAMP:20260421T120156
CREATED:20250918T121327Z
LAST-MODIFIED:20250918T121327Z
UID:8136-1782432000-1782518399@st-annes-denton.tameside.sch.uk
SUMMARY:Year 1 Sharing Assembly
DESCRIPTION:
URL:https://st-annes-denton.tameside.sch.uk/event/year-1-sharing-assembly-14/
END:VEVENT
END:VCALENDAR